BEGIN:VCALENDAR
VERSION:2.0
PRODID:icalendar-ruby
CALSCALE:GREGORIAN
METHOD:PUBLISH
BEGIN:VEVENT
DTSTAMP:20260424T060513Z
UID:https://www.biblhertz.it/events/24254/2200
DTSTART:20200324T100000Z
DTEND:20200324T120000Z
CLASS:PUBLIC
CREATED:20200220T140148Z
DESCRIPTION:Änderungsmitteilung: Event canceled\, new date to be defined! 
 \nIn this talk\, I explore essential differences between medieval and mode
 rn ideas about acts of creation\, obscuring our retrospective view upon th
 e medieval artist\, his or her work\, and his or her self-understanding. I
  analyze forms of artistic self-representation in illuminations of Genesis
  and of the creation of the cosmos according to writings by antique and me
 dieval natural philosophers. <i></i><sub></sub><sup></sup> <i></i><sub></s
 ub><sup></sup>\nVortragende: Beate Fricke
LAST-MODIFIED:20200309T104144Z
LOCATION:Villino Stroganoff\, Via Gregoriana 22\, 00187 Rom
ORGANIZER;CN=Bibliotheca Hertziana - Max-Planck-Institut für Kunstgeschich
 te:mailto:boehm@biblhertz.it
SUMMARY:Research Seminar: Acts of Creation between Artistic Practice and Th
 eological Discourse\, 12th ‒ 14th Centuries
URL;VALUE=URI:https://www.biblhertz.it/events/24254/2200
END:VEVENT
END:VCALENDAR
