BEGIN:VCALENDAR
VERSION:2.0
PRODID:icalendar-ruby
CALSCALE:GREGORIAN
METHOD:PUBLISH
BEGIN:VEVENT
DTSTAMP:20260424T060533Z
UID:https://www.biblhertz.it/events/24290/2200
DTSTART:20200312T130000Z
DTEND:20200312T170000Z
CLASS:PUBLIC
CREATED:20200221T160202Z
DESCRIPTION:Änderungsmitteilung: Event canceled
LAST-MODIFIED:20241104T135705Z
LOCATION:Villino Stroganoff\, Via Gregoriana 22\, 00187 Rom
SUMMARY:Workshop: Mobile Materials. Currents\, Circulations\, Metabolisms
URL;VALUE=URI:https://www.biblhertz.it/events/24290/2200
END:VEVENT
END:VCALENDAR
