BEGIN:VCALENDAR
VERSION:2.0
PRODID:icalendar-ruby
CALSCALE:GREGORIAN
METHOD:PUBLISH
BEGIN:VEVENT
DTSTAMP:20260425T162644Z
UID:https://www.biblhertz.it/events/29135/2200
DTSTART:20211011T090000Z
DTEND:20211011T110000Z
CLASS:PUBLIC
CREATED:20210921T132903Z
DESCRIPTION:Änderungsmitteilung: Online event via Zoom\nReferred to as "po
 tentially the Pompeii of East Africa"\, the ambition to liken the ruined c
 ity of Kua in the Mafia archipelago in today’s Tanzania with one of the 
 most famous ruined sites in Europe could hardly have been greater and cont
 inues to overshadow the Tanzanian archaeological site.\nVortragende: Vera-
 Simone Schulz
LAST-MODIFIED:20241104T122323Z
LOCATION:Villino Stroganoff\, Via Gregoriana 22\, 00187 Rom
SUMMARY:Lecture: "Potentially the Pompeii of East Africa": Histories of Arc
 haeology\, Colonialism\, and Tourism in East African Stone Towns
URL;VALUE=URI:https://www.biblhertz.it/events/29135/2200
END:VEVENT
END:VCALENDAR
