BEGIN:VCALENDAR
VERSION:2.0
PRODID:icalendar-ruby
CALSCALE:GREGORIAN
METHOD:PUBLISH
BEGIN:VEVENT
DTSTAMP:20260422T073118Z
UID:https://www.biblhertz.it/events/30490/2200
DTSTART:20220413T091500Z
DTEND:20220413T104500Z
CLASS:PUBLIC
CREATED:20220318T084755Z
DESCRIPTION:What happens to a “factory of dreams” in times of war? Cine
 città\, the Fascist-built Hollywood-on-the-Tiber\, played a key role in t
 he havoc of battle and occupation and post-World War II reconstruction.\nV
 ortragende: Noa Steimatsky
LAST-MODIFIED:20240313T112121Z
LOCATION:Villino Stroganoff\, Via Gregoriana 22\, 00187 Rom
SUMMARY:Research Seminar: Scenographies of Surveillance. The British Intell
 igence at Cinecittà\, 1944-45
URL;VALUE=URI:https://www.biblhertz.it/events/30490/2200
END:VEVENT
END:VCALENDAR
