BEGIN:VCALENDAR
VERSION:2.0
PRODID:icalendar-ruby
CALSCALE:GREGORIAN
METHOD:PUBLISH
BEGIN:VEVENT
DTSTAMP:20260422T073856Z
UID:https://www.biblhertz.it/events/30502/2200
DTSTART:20220405T081500Z
DTEND:20220405T103000Z
CLASS:PUBLIC
CREATED:20220318T160551Z
DESCRIPTION:1960s-1970s countercultural practices have often raised a dilem
 ma\, within or against institutions? Over the past decades\, many artists 
 and cultural workers have explored an alternative\, the creation of counte
 rcultural institutions.\nVortragende: Aria Spinelli and Chiara De Cesari
LAST-MODIFIED:20240105T150034Z
LOCATION:Villino Stroganoff\, Via Gregoriana 22\, 00187 Rom
SUMMARY:Research Seminar: Radical Statecraft: Transforming Institutions thr
 ough Imaginative Practice
URL;VALUE=URI:https://www.biblhertz.it/events/30502/2200
END:VEVENT
END:VCALENDAR
