BEGIN:VCALENDAR
VERSION:2.0
PRODID:icalendar-ruby
CALSCALE:GREGORIAN
METHOD:PUBLISH
BEGIN:VEVENT
DTSTAMP:20260424T045258Z
UID:https://www.biblhertz.it/events/44690/2648208
DTSTART:20260421T160000Z
DTEND:20260421T173000Z
CLASS:PUBLIC
CREATED:20260204T081531Z
DESCRIPTION:Änderungsmitteilung: There are no places available anymore.\nL
 overs of Italian culture know well a few members of the Andreini family (f
 l. 1560s-1710s): Isabella\, Francesco\, Giovan Battista\, and Virginia Ram
 poni. This lecture recovers from the Andreini family archive several new (
 to us) figures and some surprising connections\, especially between the vi
 sual arts and the commedia dell’arte.\nVortragende: "Henriette Hertz" Le
 cture by Sarah Gwyneth Ross 
LAST-MODIFIED:20260421T112601Z
LOCATION:Villino Stroganoff\, Via Gregoriana 22\, 00187 Rom
SUMMARY:Henriette Hertz Lecture: Ut pictura comoedia: The Andreini Family a
 nd the Arts in Renaissance and Baroque Italy
URL;VALUE=URI:https://www.biblhertz.it/events/44690/2648208
END:VEVENT
END:VCALENDAR
