BEGIN:VCALENDAR
VERSION:2.0
PRODID:icalendar-ruby
CALSCALE:GREGORIAN
METHOD:PUBLISH
BEGIN:VEVENT
DTSTAMP:20260422T183131Z
UID:https://www.biblhertz.it/events/44825/3309077
DTSTART:20260303T170000Z
DTEND:20260303T180000Z
CLASS:PUBLIC
CREATED:20260217T161920Z
DESCRIPTION:Änderungsmitteilung: Public event without registration\nThis t
 alk examines techniques as embodied forms of inquiry that inform how we in
 terpret art\, structure artistic education\, and understand the relationsh
 ip between thinking and making.\nVortragende(r): Gleb Shtyrmer
LAST-MODIFIED:20260222T070316Z
LOCATION:Villino Stroganoff\, Via Gregoriana 22\, 00187 Rome and online
SUMMARY:Talk: Renaissance Techniques as Living Practice: Material Knowledge
  and Artistic Thinking Across Research and Education
URL;VALUE=URI:https://www.biblhertz.it/events/44825/3309077
END:VEVENT
END:VCALENDAR
