BEGIN:VCALENDAR
VERSION:2.0
PRODID:icalendar-ruby
CALSCALE:GREGORIAN
METHOD:PUBLISH
BEGIN:VEVENT
DTSTAMP:20260420T091948Z
UID:https://www.biblhertz.it/events/45217/3780463
DTSTART:20260423T070000Z
DTEND:20260424T140000Z
CLASS:PUBLIC
CREATED:20260325T134940Z
DESCRIPTION:Änderungsmitteilung: Public event without registration\nThis w
 orkshop examines explicit or implicit material and artistic interventions 
 in medieval sacred spaces by diverse actors or groups\, presenting and dis
 cussing established and new trends in art historical studies.\nVortragende
 (r): Workshop
LAST-MODIFIED:20260330T082229Z
LOCATION:Villino Stroganoff\, Via Gregoriana 22\, 00187 Rome and online
SUMMARY:Workshop: Actors of Sacred Space: Contexts\, Objects\, Memory
URL;VALUE=URI:https://www.biblhertz.it/events/45217/3780463
END:VEVENT
END:VCALENDAR
