BEGIN:VCALENDAR
VERSION:2.0
PRODID:icalendar-ruby
CALSCALE:GREGORIAN
METHOD:PUBLISH
BEGIN:VEVENT
DTSTAMP:20260421T105450Z
UID:https://www.biblhertz.it/events/45218/2200
DTSTART:20260417T090000Z
DTEND:20260421T140000Z
CLASS:PUBLIC
CREATED:20260325T154404Z
DESCRIPTION:Änderungsmitteilung: Public event without registration\nWhat a
 re the temporalities of neural networks? How do machines encode time\, and
  how do they structure our experience of time? What are the consequences o
 f a neural network’s attempt to simulate temporal and historical ways of
  being? This conference\, hosted by the Machine Visual Culture research gr
 oup\, suggests temporality as the fil rouge to pierce through the disparat
 e levels at which critical AI intervenes\; from infrastructures to neural 
 architectures\, from crowdworkers to latent spaces. The temporal is at the
  heart of critiques around\, for instance\, labour-time in training data (
 Malevé\, Pasquinelli)\, the historical situatedness of AI models (Offert\
 , Heuser)\, modes of temporal existence in LLMs\, alongside other foundati
 onal accounts of computational media (Stiegler\, Ernst).\nVortragende(r): 
 Conference
LAST-MODIFIED:20260413T135728Z
LOCATION:Villino Stroganoff\, Via Gregoriana 22\, 00187 Rome and online
SUMMARY:Conference: Temporalities of AI
URL;VALUE=URI:https://www.biblhertz.it/events/45218/2200
END:VEVENT
END:VCALENDAR
