BEGIN:VCALENDAR
VERSION:2.0
PRODID:icalendar-ruby
CALSCALE:GREGORIAN
METHOD:PUBLISH
BEGIN:VEVENT
DTSTAMP:20260423T135154Z
UID:https://www.biblhertz.it/events/45223/2200
DTSTART:20260427T140000Z
DTEND:20260427T160000Z
CLASS:PUBLIC
CREATED:20260326T113230Z
DESCRIPTION:Änderungsmitteilung: Public event without registration\nThe Ch
 urch of the Gesù dominates the center of Rome today as it did by the late
  sixteenth century\, yet integrating the early members of the Society of J
 esus into the urban fabric was a protracted process. This seminar examines
  the initial Roman period of the Society as it gained a foothold in the ci
 ty. It focuses on the quarter century that preceded construction of the bu
 ilding we see today.\nVortragende: Ann Huppert and Pamela O. Long
LAST-MODIFIED:20260421T092038Z
LOCATION:Villino Stroganoff\, Via Gregoriana 22\, 00187 Rome and online
SUMMARY:Research Seminar: Siting and Constructing the Church of the Gesù: 
 Situating a New Religious Order in the Center of Rome
URL;VALUE=URI:https://www.biblhertz.it/events/45223/2200
END:VEVENT
END:VCALENDAR
