BEGIN:VCALENDAR
VERSION:2.0
PRODID:icalendar-ruby
CALSCALE:GREGORIAN
METHOD:PUBLISH
BEGIN:VEVENT
DTSTAMP:20260420T091947Z
UID:https://www.biblhertz.it/events/45448/2598514
DTSTART:20260512T150000Z
DTEND:20260512T170000Z
CLASS:PUBLIC
CREATED:20260417T102939Z
DESCRIPTION:Änderungsmitteilung: Pre-registration is required - limited pl
 aces available\nHow can the treatment of lacunae respond to the artwork it
 self? How can specificity be balanced against general principles at the le
 vel of practice? What does it mean to see inpainting in light of advances 
 in technological imaging and documentation? These core questions will info
 rm a conversation with conservator Giulio Bono.\nVortragende(r): A Convers
 ation between Giulio Bono and Cleo Nisse 
LAST-MODIFIED:20260417T122636Z
LOCATION:Palazzo Zuccari\, Via Gregoriana 28\, Sala Riunioni\, 00187 Rome 
SUMMARY:Talk: From the Painting to the Inpainting: Some Approaches to the T
 reatment of Lacunae in Venetian Artworks
URL;VALUE=URI:https://www.biblhertz.it/events/45448/2598514
END:VEVENT
END:VCALENDAR
