BEGIN:VCALENDAR
VERSION:2.0
PRODID:icalendar-ruby
CALSCALE:GREGORIAN
METHOD:PUBLISH
BEGIN:VEVENT
DTSTAMP:20260421T034445Z
UID:https://www.biblhertz.it/events/45470/2598514
DTSTART:20260504T114500Z
DTEND:20260505T170000Z
CLASS:PUBLIC
CREATED:20260420T115500Z
DESCRIPTION:Änderungsmitteilung: Public event without registration\nThis w
 orkshop focuses on the mobilization of material culture by previously over
 looked social agents in the early modern Hispanic World who constructed me
 anings and articulated networks at local and regional scales across the Am
 ericas\, Spain\, and Italy\nVortragende(r): Workshop
LAST-MODIFIED:20260420T125335Z
LOCATION:Villino Stroganoff\, Via Gregoriana 22\, 00187 Rome and online
SUMMARY:Workshop: Recentering the Margins: Networks\, Portable Culture\, an
 d Local Agencies in the Early Modern Hispanic World
URL;VALUE=URI:https://www.biblhertz.it/events/45470/2598514
END:VEVENT
END:VCALENDAR
