BEGIN:VCALENDAR
VERSION:2.0
PRODID:icalendar-ruby
CALSCALE:GREGORIAN
METHOD:PUBLISH
BEGIN:VEVENT
DTSTAMP:20260421T032950Z
UID:https://www.biblhertz.it/events/45473/2598514
DTSTART:20260522T090000Z
DTEND:20260522T143000Z
CLASS:PUBLIC
CREATED:20260420T141639Z
DESCRIPTION:Änderungsmitteilung: Public event without registration\nHow mi
 ght the nineteenth-century textile industry – its concrete organisations
 \, and formal combinations\, its mechanical engagements\, and material exp
 lorations – give us clues\, to trace a critique of the AI industry?\nVor
 tragende(r): Workshop
LAST-MODIFIED:20260420T143155Z
LOCATION:Villino Stroganoff\, Via Gregoriana 22\, 00187 Rome and online
SUMMARY:Workshop: The Industrialisation of Patterns
URL;VALUE=URI:https://www.biblhertz.it/events/45473/2598514
END:VEVENT
END:VCALENDAR
