BEGIN:VCALENDAR
VERSION:2.0
PRODID:icalendar-ruby
CALSCALE:GREGORIAN
METHOD:PUBLISH
BEGIN:VEVENT
DTSTAMP:20260420T210947Z
UID:https://www.biblhertz.it/events/45474/3786244
DTSTART;VALUE=DATE:20260513
DTEND;VALUE=DATE:20260516
CLASS:PUBLIC
CREATED:20260420T144201Z
DESCRIPTION:Änderungsmitteilung: Public event without registration\nThe 20
 26 Gernsheim Study Days will explore the relationship between early modern
  drawings\, frames\, and framing. With this focus on the medium of drawing
 \, this conference seeks to uncover new ways to think about the myriad sem
 iotic potentials of the frame in the making and study of early modern art.
 \nVortragende(r): Gernsheim Study Days
LAST-MODIFIED:20260420T150217Z
LOCATION:Villino Stroganoff\, Via Gregoriana 22\, 00187 Rome and online (Vi
 meo) 
SUMMARY:Gernsheim Study Days: Framing the Drawing – Drawing the Frame
URL;VALUE=URI:https://www.biblhertz.it/events/45474/3786244
END:VEVENT
END:VCALENDAR
