BEGIN:VCALENDAR
VERSION:2.0
PRODID:icalendar-ruby
CALSCALE:GREGORIAN
METHOD:PUBLISH
BEGIN:VEVENT
DTSTAMP:20260423T020054Z
UID:https://www.biblhertz.it/events/45516/2598514
DTSTART:20260520T120000Z
DTEND:20260520T150000Z
CLASS:PUBLIC
CREATED:20260422T161613Z
DESCRIPTION:Änderungsmitteilung: Evento pubblico senza registrazione\nNell
 ’ambito del Max Planck Partner Group <i>Sport Body and Race in Fascist V
 isual Culture</i>\, questo incontro a due voci propone una riflessione sul
 la storia dello sport nelle colonie\, a partire dalle collezioni della fot
 oteca dell’IsIAO\, progressivamente rese accessibili dal progetto Citize
 n Science sviluppato su Zooniverse.\nVortragende: Claudio Mancuso e Lucas 
 Iannuzzi
LAST-MODIFIED:20260422T172920Z
LOCATION:Villino Stroganoff\, Via Gregoriana 22\, 00187 Roma e online
SUMMARY:Research Seminar: Sport\, immagini e colonialismo in Libia attraver
 so le collezioni dell'IsIAO
URL;VALUE=URI:https://www.biblhertz.it/events/45516/2598514
END:VEVENT
END:VCALENDAR
